BEGIN:VCALENDAR
VERSION:2.0
PRODID:-//Amor Artis New Hosting - ECPv6.15.16.1//NONSGML v1.0//EN
CALSCALE:GREGORIAN
METHOD:PUBLISH
X-ORIGINAL-URL:https://amorartisbrewing.com
X-WR-CALDESC:Events for Amor Artis New Hosting
REFRESH-INTERVAL;VALUE=DURATION:PT1H
X-Robots-Tag:noindex
X-PUBLISHED-TTL:PT1H
BEGIN:VTIMEZONE
TZID:UTC
BEGIN:STANDARD
TZOFFSETFROM:+0000
TZOFFSETTO:+0000
TZNAME:UTC
DTSTART:20250101T000000
END:STANDARD
END:VTIMEZONE
BEGIN:VEVENT
DTSTART;TZID=UTC:20260228T110000
DTEND;TZID=UTC:20260228T220000
DTSTAMP:20260419T210424
CREATED:20260211T022121Z
LAST-MODIFIED:20260211T022121Z
UID:1960-1772276400-1772316000@amorartisbrewing.com
SUMMARY:Anniversary Party Reboot 8.1!
DESCRIPTION:February 28th | Opening Early at 11AM \nMother Nature tried to crash our 8th anniversary party with arctic weather… so we’re running it back the right way. \nJoin us for Anniversary Party Reboot 8.1 — round two of our 8-year celebration\, and this time we’re doing it BIG. \nWe’re opening early at 11AM and bringing out some seriously wicked awesome cellar beers to make up for the freeze-out. If you missed them the first time (or want them again)\, this is your shot. \n🍺 Cellar Beer Tap Schedule:\n11AM \n\n\n2020 Barleywine \n\n\n2019 York County \n\n\nBarrel Aged Triple (2020) \n\n\n12PM \n\n\nBarrel Aged Brittanical \n\n\n1PM \n\n\nChocolate Tenebris Sour Ale \n\n\n2PM \n\n\nAshley Schaeffer Plum Sour \n\n\n3PM \n\n\nCinnamon Whiskey Quad Sour \n\n\nThese are limited releases and will go fast — don’t be late! \n🎶 Live Music\n\n\n12PM–3PM \n\n\n4PM–7PM \n\n\n🥂 Custom Anniversary Glasses\nCommemorative anniversary glasses will be available for purchase — because 8 years deserves proper glassware. \n🎟️ Anniversary Raffle\nWe’ll also be raffling off an Amor Artis gift basket packed with brewery goodies — don’t miss your chance to win! \nEight years of beer\, community\, and unforgettable memories. The first party may have been chilled out… but this reboot is bringing the heat. \nLet’s celebrate the way we meant to the first time. 🍻🔥
URL:https://amorartisbrewing.com/event/anniversary-party-reboot-8-1/
LOCATION:Amor Artis Brewing\, 204 Main Street\, Fort Mill\, SC\, 29715\, United States
CATEGORIES:Amor Artis
ATTACH;FMTTYPE=image/jpeg:https://amorartisbrewing.com/wp-content/uploads/2026/02/Anniversary-photo-scaled.jpg
END:VEVENT
BEGIN:VEVENT
DTSTART;TZID=UTC:20260308T090000
DTEND;TZID=UTC:20260308T130000
DTSTAMP:20260419T210424
CREATED:20260302T190141Z
LAST-MODIFIED:20260302T190141Z
UID:2015-1772960400-1772974800@amorartisbrewing.com
SUMMARY:🌸🍻 International Women’s Day Brew Day 2026 🍻🌸
DESCRIPTION:Celebrate International Women’s Day with us the best way we know how — brewing great beer together! \nYou’re invited to our 2026 Ladies Brew Day this Sunday\, March 8th starting at 9AM for a hands-on\, behind-the-scenes brewing experience at The Print Shop. \nWhether you’ve never touched a mash paddle or you’ve been curious about brewing for years — this day is for you. No experience necessary! \n✨ What to Expect: \n\n\nLight snacks to kick off the morning \n\n\nA full brew day experience \n\n\nHands-on opportunities to get involved in the process \n\n\nTime to ask questions and learn the “why” behind the brew \n\n\nLunch together \n\n\nGreat conversation and new connections \n\n\nSpend the day talking beer with our Head Brewer\, Jesse\, getting your hands a little dirty\, and celebrating the amazing women in our community. Come learn something new\, share some laughs\, and maybe make a new friend or two along the way. \nIf you’re planning to join us\, please sign up so we can make sure there’s plenty of food for everyone: \n👉 https://www.signupgenius.com/go/60B0E44AFAA29ABF85-62698324-international#/ \nWe can’t wait to brew with you! 🍺💛
URL:https://amorartisbrewing.com/event/%f0%9f%8c%b8%f0%9f%8d%bb-international-womens-day-brew-day-2026-%f0%9f%8d%bb%f0%9f%8c%b8/
LOCATION:The Print Shop\, 113 Railroad Avenue\, Fort Mill\, SC\, 29715\, United States
CATEGORIES:The Print Shop
ATTACH;FMTTYPE=image/jpeg:https://amorartisbrewing.com/wp-content/uploads/2026/03/Ladies.jpg
END:VEVENT
BEGIN:VEVENT
DTSTART;TZID=UTC:20260308T103000
DTEND;TZID=UTC:20260308T113000
DTSTAMP:20260419T210424
CREATED:20260202T154645Z
LAST-MODIFIED:20260202T154645Z
UID:1919-1772965800-1772969400@amorartisbrewing.com
SUMMARY:Yoga Untapped March 8th
DESCRIPTION:Join us for taproom yoga led by OM Yoga! Cost includes class and a beer or house wine after class. Please bring your own mat! Current tickets are $10 + tax for the 3/8 class at 10:30am located at Amor Artis Brewing. \n**CLASS SIZE IS LIMITED. PLEASE PURCHASE YOUR SPOT IN ADVANCE** \nIf you have any questions please email khara@amorartisbrewing.com
URL:https://amorartisbrewing.com/event/yoga-untapped-march-8th/
LOCATION:Amor Artis Brewing\, 204 Main Street\, Fort Mill\, SC\, 29715\, United States
CATEGORIES:Amor Artis
ATTACH;FMTTYPE=image/jpeg:https://amorartisbrewing.com/wp-content/uploads/2025/02/Yoga.jpeg
END:VEVENT
BEGIN:VEVENT
DTSTART;TZID=UTC:20260310T190000
DTEND;TZID=UTC:20260310T210000
DTSTAMP:20260419T210424
CREATED:20260302T134834Z
LAST-MODIFIED:20260302T134834Z
UID:2005-1773169200-1773176400@amorartisbrewing.com
SUMMARY:Sports & Beer Trivia
DESCRIPTION:Tuesday\, March 10\, 20267:00 PM 9:00 PMAmor Artis Brewing\n\nBig plays\, cold beers\, and bragging rights! Join us for a slam-dunk night of Sports & Beer Trivia\, March Madness–style.\nA portion of the night’s sales will support the Fort Mill History Museum. Don’t miss this fun-filled evening of trivia and community!!\n\nHosted by Shawn & Amber Smith
URL:https://amorartisbrewing.com/event/sports-beer-trivia/
LOCATION:Amor Artis Brewing\, 204 Main Street\, Fort Mill\, SC\, 29715\, United States
CATEGORIES:Amor Artis
ATTACH;FMTTYPE=image/jpeg:https://amorartisbrewing.com/wp-content/uploads/2026/03/Sports-Trivia.jpg
END:VEVENT
BEGIN:VEVENT
DTSTART;TZID=UTC:20260312T183000
DTEND;TZID=UTC:20260312T210000
DTSTAMP:20260419T210424
CREATED:20260302T135056Z
LAST-MODIFIED:20260302T135056Z
UID:2008-1773340200-1773349200@amorartisbrewing.com
SUMMARY:Open Mic Night!
DESCRIPTION:Join us for some pre-St. Patrick’s Day craic!    Sing your favourite Irish tunes\, get up to some relatively harmless shenanigans with your friends\, and get yourselves in the spirit for the festive weekend \n\nShow off your talent solo or with a friend\, or jump in with the Jam Band later in the evening. All ages are welcome\, and we have instruments available to borrow if needed. The sound system and all cables are provided\, so it’s just Plug and Play! Cheers \n\n*Please no extra amps\, we have limited space\, and sensitive acoustics*
URL:https://amorartisbrewing.com/event/open-mic-night-4/
LOCATION:Amor Artis Brewing\, 204 Main Street\, Fort Mill\, SC\, 29715\, United States
CATEGORIES:Amor Artis
ATTACH;FMTTYPE=image/png:https://amorartisbrewing.com/wp-content/uploads/2026/01/Open-Mic-Night-Flyer-2026_20260101_115121_0000.png
END:VEVENT
BEGIN:VEVENT
DTSTART;TZID=UTC:20260322T103000
DTEND;TZID=UTC:20260322T113000
DTSTAMP:20260419T210424
CREATED:20260202T154838Z
LAST-MODIFIED:20260202T154838Z
UID:1922-1774175400-1774179000@amorartisbrewing.com
SUMMARY:Yoga Untapped March 22nd
DESCRIPTION:Join us for taproom yoga led by OM Yoga! Cost includes class and a beer or house wine after class. Please bring your own mat! Current tickets are $10 + tax for the 3/22 class at 10:30am located at Amor Artis Brewing. \n**CLASS SIZE IS LIMITED. PLEASE PURCHASE YOUR SPOT IN ADVANCE** \nIf you have any questions please email khara@amorartisbrewing.com
URL:https://amorartisbrewing.com/event/yoga-untapped-march-22nd/
LOCATION:Amor Artis Brewing\, 204 Main Street\, Fort Mill\, SC\, 29715\, United States
ATTACH;FMTTYPE=image/jpeg:https://amorartisbrewing.com/wp-content/uploads/2025/02/Yoga.jpeg
END:VEVENT
BEGIN:VEVENT
DTSTART;TZID=UTC:20260325T183000
DTEND;TZID=UTC:20260325T200000
DTSTAMP:20260419T210424
CREATED:20260323T170849Z
LAST-MODIFIED:20260323T170849Z
UID:2096-1774463400-1774468800@amorartisbrewing.com
SUMMARY:CycleHops Bike Club
DESCRIPTION:We cruise for an 8 to 10 mile loop every Wednesday night! Anyone and everyone is welcome. This ride has hills but can be dominated with a single speed cruiser. We ride at a social pace. Meet in the parking lot behind Amor Artis Brewing at 6:15pm\, pedaling out at 6:30p. Helmets are required.\n\nUltimately\, these rides are about more than riding bikes. We’re all about getting fit\, making friends\, and enjoying some pints!\n– $5 pints for all riders!– Earn swag with our punch cards!\n\nFollow us on the Amor Artis Weekly Rides Facebook page for weekly updates and photos!
URL:https://amorartisbrewing.com/event/cyclehops-bike-club/
LOCATION:Amor Artis Brewing\, 204 Main Street\, Fort Mill\, SC\, 29715\, United States
ATTACH;FMTTYPE=image/jpeg:https://amorartisbrewing.com/wp-content/uploads/2025/02/Cyclhops.jpeg
END:VEVENT
BEGIN:VEVENT
DTSTART;TZID=UTC:20260326T183000
DTEND;TZID=UTC:20260326T210000
DTSTAMP:20260419T210424
CREATED:20260302T142112Z
LAST-MODIFIED:20260302T142112Z
UID:2013-1774549800-1774558800@amorartisbrewing.com
SUMMARY:Open Mic Night!
DESCRIPTION:Come on out to Amor Artis Brewing every other Thursday night (or fortnightly… we promise\, it’s a word) to Open Mic Night!\n\nShow off your talent solo or with a friend\, or jump in with the Jam Band later in the evening. All ages are welcome\, and we have instruments available to borrow if needed. The sound system and all cables are provided\, so it’s just Plug and Play! Cheers \n\n*Please no extra amps\, we have limited space\, and sensitive acoustics*
URL:https://amorartisbrewing.com/event/open-mic-night-5/
LOCATION:Amor Artis Brewing\, 204 Main Street\, Fort Mill\, SC\, 29715\, United States
CATEGORIES:Amor Artis
ATTACH;FMTTYPE=image/png:https://amorartisbrewing.com/wp-content/uploads/2026/01/Open-Mic-Night-Flyer-2026_20260101_115121_0000.png
END:VEVENT
BEGIN:VEVENT
DTSTART;TZID=UTC:20260327T180000
DTEND;TZID=UTC:20260327T210000
DTSTAMP:20260419T210424
CREATED:20260323T174522Z
LAST-MODIFIED:20260323T174522Z
UID:2108-1774634400-1774645200@amorartisbrewing.com
SUMMARY:Live Music At The Print Shop
DESCRIPTION:Join us for live music on the porch!
URL:https://amorartisbrewing.com/event/live-music-at-the-print-shop/
LOCATION:The Print Shop\, 113 Railroad Avenue\, Fort Mill\, SC\, 29715\, United States
CATEGORIES:The Print Shop
ATTACH;FMTTYPE=image/jpeg:https://amorartisbrewing.com/wp-content/uploads/2026/03/Annie-Haden.jpg
END:VEVENT
BEGIN:VEVENT
DTSTART;TZID=UTC:20260328T180000
DTEND;TZID=UTC:20260328T210000
DTSTAMP:20260419T210424
CREATED:20260323T174701Z
LAST-MODIFIED:20260323T174701Z
UID:2111-1774720800-1774731600@amorartisbrewing.com
SUMMARY:Live Music At The Print Shop!
DESCRIPTION:Join us for live music on the porch!
URL:https://amorartisbrewing.com/event/live-music-at-the-print-shop-2/
LOCATION:SC
CATEGORIES:The Print Shop
ATTACH;FMTTYPE=image/jpeg:https://amorartisbrewing.com/wp-content/uploads/2026/03/Dustin-Wilson.jpg
END:VEVENT
BEGIN:VEVENT
DTSTART;TZID=UTC:20260401T183000
DTEND;TZID=UTC:20260401T200000
DTSTAMP:20260419T210424
CREATED:20260323T173249Z
LAST-MODIFIED:20260323T173249Z
UID:2098-1775068200-1775073600@amorartisbrewing.com
SUMMARY:CycleHops Bike Club
DESCRIPTION:We cruise for an 8 to 10 mile loop every Wednesday night! Anyone and everyone is welcome. This ride has hills but can be dominated with a single speed cruiser. We ride at a social pace. Meet in the parking lot behind Amor Artis Brewing at 6:15pm\, pedaling out at 6:30p. Helmets are required.\n\nUltimately\, these rides are about more than riding bikes. We’re all about getting fit\, making friends\, and enjoying some pints!\n– $5 pints for all riders!– Earn swag with our punch cards!\n\nFollow us on the Amor Artis Weekly Rides Facebook page for weekly updates and photos!
URL:https://amorartisbrewing.com/event/cyclehops-bike-club-2/
LOCATION:Amor Artis Brewing\, 204 Main Street\, Fort Mill\, SC\, 29715\, United States
ATTACH;FMTTYPE=image/jpeg:https://amorartisbrewing.com/wp-content/uploads/2025/02/Cyclhops.jpeg
END:VEVENT
BEGIN:VEVENT
DTSTART;TZID=UTC:20260405T123000
DTEND;TZID=UTC:20260405T130000
DTSTAMP:20260419T210424
CREATED:20260302T140552Z
LAST-MODIFIED:20260302T140552Z
UID:2010-1775392200-1775394000@amorartisbrewing.com
SUMMARY:Easter Egg Hunt at The Print Shop!
DESCRIPTION:Spend your Easter with us at The Print Shop! You and the fam can enjoy:\n\n– Mimosa Specials!– Kids Easter Egg Hunt at 12:30pm!– Adult Easter Egg Hunt at 1pm!– Crafts and Easter Bunny Juice For The Kiddos!\n\n**Mimosa special’s end at 3pm.**
URL:https://amorartisbrewing.com/event/easter-egg-hunt-at-the-print-shop/
LOCATION:The Print Shop\, 113 Railroad Avenue\, Fort Mill\, SC\, 29715\, United States
CATEGORIES:The Print Shop
ATTACH;FMTTYPE=image/png:https://amorartisbrewing.com/wp-content/uploads/2026/03/happy-easter-sale-Facebook-Cover.png
END:VEVENT
BEGIN:VEVENT
DTSTART;TZID=UTC:20260408T183000
DTEND;TZID=UTC:20260408T200000
DTSTAMP:20260419T210424
CREATED:20260323T173333Z
LAST-MODIFIED:20260323T173333Z
UID:2100-1775673000-1775678400@amorartisbrewing.com
SUMMARY:CycleHops Bike Club
DESCRIPTION:We cruise for an 8 to 10 mile loop every Wednesday night! Anyone and everyone is welcome. This ride has hills but can be dominated with a single speed cruiser. We ride at a social pace. Meet in the parking lot behind Amor Artis Brewing at 6:15pm\, pedaling out at 6:30p. Helmets are required.\n\nUltimately\, these rides are about more than riding bikes. We’re all about getting fit\, making friends\, and enjoying some pints!\n– $5 pints for all riders!– Earn swag with our punch cards!\n\nFollow us on the Amor Artis Weekly Rides Facebook page for weekly updates and photos!
URL:https://amorartisbrewing.com/event/cyclehops-bike-club-3/
LOCATION:Amor Artis Brewing\, 204 Main Street\, Fort Mill\, SC\, 29715\, United States
ATTACH;FMTTYPE=image/jpeg:https://amorartisbrewing.com/wp-content/uploads/2025/02/Cyclhops.jpeg
END:VEVENT
BEGIN:VEVENT
DTSTART;TZID=UTC:20260413T180000
DTEND;TZID=UTC:20260413T200000
DTSTAMP:20260419T210424
CREATED:20260413T154850Z
LAST-MODIFIED:20260413T155259Z
UID:2158-1776103200-1776110400@amorartisbrewing.com
SUMMARY:Joggers For Lagers
DESCRIPTION:Every Monday at 6pm! \nGet ready to sweat\, sip and socialize!  Join us every Monday for our Joggers for Lagers Run Club at 6pm. Run your pace and enjoy post-run beer specials! See you there! \nAsics demo tonight\, hosted by CRC Riverwalk.
URL:https://amorartisbrewing.com/event/joggers-for-lagers-2/
LOCATION:Amor Artis Brewing\, 204 Main Street\, Fort Mill\, SC\, 29715\, United States
CATEGORIES:Amor Artis
ATTACH;FMTTYPE=image/jpeg:https://amorartisbrewing.com/wp-content/uploads/2025/02/w926.jpeg
END:VEVENT
BEGIN:VEVENT
DTSTART;TZID=UTC:20260414T180000
DTEND;TZID=UTC:20260414T210000
DTSTAMP:20260419T210424
CREATED:20260413T145430Z
LAST-MODIFIED:20260413T145430Z
UID:2125-1776189600-1776200400@amorartisbrewing.com
SUMMARY:Pints & Padres at The Print Shop
DESCRIPTION:A space for dads to come together\, share a pint\, enjoy some social time\, and be able to talk about issues that impact them. We will feature a guest speaker that will share their experience with a specific topic that impacts men. All dad’s and dad figures are welcome to join us for a few pints\, fellowship and real conversations.\n\nThis Pints & Padres is sponsored by Toppers Pizza! Come for a pint and slice of pie\, stay for the fellowship.\n\n**Social hour 6pm – 7:30p. Conversation tentatively starts at 7:30pm**
URL:https://amorartisbrewing.com/event/pints-padres-at-the-print-shop/
LOCATION:The Print Shop\, 113 Railroad Avenue\, Fort Mill\, SC\, 29715\, United States
CATEGORIES:The Print Shop
ATTACH;FMTTYPE=image/png:https://amorartisbrewing.com/wp-content/uploads/2026/04/Pints-Padres-2026.png
END:VEVENT
BEGIN:VEVENT
DTSTART;TZID=UTC:20260414T190000
DTEND;TZID=UTC:20260414T210000
DTSTAMP:20260419T210424
CREATED:20260413T145905Z
LAST-MODIFIED:20260413T145905Z
UID:2128-1776193200-1776200400@amorartisbrewing.com
SUMMARY:Harry Potter Trivia Night
DESCRIPTION:To your brooms! Get your wands ready for Trivia Night hosted by The Fort Mill History Museum at Amor Artis! Sit with us for a spell and some Harry Potter Trivia this month.\n\nA portion of the night’s sales will support the Fort Mill History Museum. Don’t miss this fun-filled evening of trivia and community!!\nHosted by Matt Vilardebo
URL:https://amorartisbrewing.com/event/harry-potter-trivia-night/
LOCATION:Amor Artis Brewing\, 204 Main Street\, Fort Mill\, SC\, 29715\, United States
CATEGORIES:Amor Artis
ATTACH;FMTTYPE=image/png:https://amorartisbrewing.com/wp-content/uploads/2026/04/5.png
END:VEVENT
BEGIN:VEVENT
DTSTART;VALUE=DATE:20260415
DTEND;VALUE=DATE:20260416
DTSTAMP:20260419T210424
CREATED:20260413T151155Z
LAST-MODIFIED:20260413T151155Z
UID:2131-1776211200-1776297599@amorartisbrewing.com
SUMMARY:Wine Not Wednesday!
DESCRIPTION:Join EVERY Wednesday for Wine Not Wednesday featuring:\n\n Discounted wines by the glass!\n  NO corkage fee on bottles!\n\n\n\nGrab your friends and sip your favorite wine with us. Because really… wine not?!
URL:https://amorartisbrewing.com/event/wine-not-wednesday-2/
LOCATION:Amor Artis Brewing\, 204 Main Street\, Fort Mill\, SC\, 29715\, United States
CATEGORIES:Amor Artis
ATTACH;FMTTYPE=image/jpeg:https://amorartisbrewing.com/wp-content/uploads/2026/04/616123835_18417999343191399_5920629080387412841_n.jpg
END:VEVENT
BEGIN:VEVENT
DTSTART;TZID=UTC:20260415T180000
DTEND;TZID=UTC:20260415T193000
DTSTAMP:20260419T210424
CREATED:20260413T152649Z
LAST-MODIFIED:20260413T152649Z
UID:2148-1776276000-1776281400@amorartisbrewing.com
SUMMARY:Rock The Mill
DESCRIPTION:Winthrop Athletics is partnering with The Print Shop by Amor Artis for two Rock The Mill events!The shows include Mike Pacheco (voice of the Eagles) sitting down with @WinthropBSB HC Mike McGuire & @Winthropsoftbal HC Kendall Fuller for a 30-minute segment that will air live on @WRHI (94.3 FM)
URL:https://amorartisbrewing.com/event/rock-the-mill/
LOCATION:The Print Shop\, 113 Railroad Avenue\, Fort Mill\, SC\, 29715\, United States
CATEGORIES:The Print Shop
ATTACH;FMTTYPE=image/jpeg:https://amorartisbrewing.com/wp-content/uploads/2026/04/669330068_1622696446170038_4466321806005156645_n.jpg
END:VEVENT
BEGIN:VEVENT
DTSTART;TZID=UTC:20260415T183000
DTEND;TZID=UTC:20260415T200000
DTSTAMP:20260419T210424
CREATED:20260323T173404Z
LAST-MODIFIED:20260323T173404Z
UID:2102-1776277800-1776283200@amorartisbrewing.com
SUMMARY:CycleHops Bike Club
DESCRIPTION:We cruise for an 8 to 10 mile loop every Wednesday night! Anyone and everyone is welcome. This ride has hills but can be dominated with a single speed cruiser. We ride at a social pace. Meet in the parking lot behind Amor Artis Brewing at 6:15pm\, pedaling out at 6:30p. Helmets are required.\n\nUltimately\, these rides are about more than riding bikes. We’re all about getting fit\, making friends\, and enjoying some pints!\n– $5 pints for all riders!– Earn swag with our punch cards!\n\nFollow us on the Amor Artis Weekly Rides Facebook page for weekly updates and photos!
URL:https://amorartisbrewing.com/event/cyclehops-bike-club-4/
LOCATION:Amor Artis Brewing\, 204 Main Street\, Fort Mill\, SC\, 29715\, United States
ATTACH;FMTTYPE=image/jpeg:https://amorartisbrewing.com/wp-content/uploads/2025/02/Cyclhops.jpeg
END:VEVENT
BEGIN:VEVENT
DTSTART;TZID=UTC:20260416T160000
DTEND;TZID=UTC:20260416T200000
DTSTAMP:20260419T210424
CREATED:20260413T153737Z
LAST-MODIFIED:20260413T153737Z
UID:2153-1776355200-1776369600@amorartisbrewing.com
SUMMARY:Third Thursdays Art Crawl in Downtown Fort Mill!
DESCRIPTION:The Third Thursday of Each Month | 4–8 PM\n\nExperience an evening filled with creativity\, connection\, and community. Explore exhibits from over 30 local artists showcased across a variety of downtown businesses\, and enjoy live painting\, printmaking\, pottery demonstrations\, and other creativity throughout the evening.\n\n Don’t forget to look for QR codes on flyers and signage to guide your stroll and discover what’s happening next!\nBring colleagues\, friends\, or family and be part of Fort Mill’s growing arts scene — a wonderful way to unwind\, network\, and support local talent.\n\nA Downtown Co-op of Fort Mill Community Event.\nhttps://www.downtownfortmillsc.com/events
URL:https://amorartisbrewing.com/event/third-thursdays-art-crawl-in-downtown-fort-mill/
LOCATION:Amor Artis Brewing\, 204 Main Street\, Fort Mill\, SC\, 29715\, United States
CATEGORIES:Amor Artis
ATTACH;FMTTYPE=image/jpeg:https://amorartisbrewing.com/wp-content/uploads/2026/04/577607843_761886533622718_6304464937507036455_n.jpg
END:VEVENT
BEGIN:VEVENT
DTSTART;TZID=UTC:20260416T180000
DTEND;TZID=UTC:20260416T210000
DTSTAMP:20260419T210424
CREATED:20260413T152039Z
LAST-MODIFIED:20260413T152039Z
UID:2141-1776362400-1776373200@amorartisbrewing.com
SUMMARY:Girls Night Out at The Print Shop
DESCRIPTION:The weather is warming up\, the sun is staying out later\, and that means Girl’s Night Out is officially returning as a monthly event starting Thursday\, April 16th! Join us for an evening with your ladies!\n\nWe will have fun vendors\, artisans\, drink specials\, and a raffle or a chance to win a 4-pack!
URL:https://amorartisbrewing.com/event/girls-night-out-at-the-print-shop/
LOCATION:The Print Shop\, 113 Railroad Avenue\, Fort Mill\, SC\, 29715\, United States
CATEGORIES:The Print Shop
ATTACH;FMTTYPE=image/jpeg:https://amorartisbrewing.com/wp-content/uploads/2026/04/657435513_940086565265273_6008875720154845357_n.jpg
END:VEVENT
BEGIN:VEVENT
DTSTART;VALUE=DATE:20260417
DTEND;VALUE=DATE:20260418
DTSTAMP:20260419T210424
CREATED:20260413T161640Z
LAST-MODIFIED:20260413T161640Z
UID:2177-1776384000-1776470399@amorartisbrewing.com
SUMMARY:Strawberry Pale Ale Beer Release!
DESCRIPTION:It’s coming BACK and better than ever… Strawberry Pale Ale returns for the season on April 17th! \n\nThis is the release we wait all year for—and trust us\, it’s worth it. We’re talking 300 pounds of fresh strawberries straight from Springs Farm\, bringing you that perfectly balanced\, juicy\, slightly sweet sip of sunshine.\n\nOne pint in and you’ll be fully in your Strawberry Festival era!
URL:https://amorartisbrewing.com/event/strawberry-pale-ale-beer-release/
LOCATION:Amor Artis Brewing\, 204 Main Street\, Fort Mill\, SC\, 29715\, United States
CATEGORIES:Amor Artis
ATTACH;FMTTYPE=image/jpeg:https://amorartisbrewing.com/wp-content/uploads/2026/04/DSC08901.jpg
END:VEVENT
BEGIN:VEVENT
DTSTART;TZID=UTC:20260417T180000
DTEND;TZID=UTC:20260417T210000
DTSTAMP:20260419T210424
CREATED:20260413T144443Z
LAST-MODIFIED:20260413T144443Z
UID:2120-1776448800-1776459600@amorartisbrewing.com
SUMMARY:Live Music At The Print Shop!
DESCRIPTION:Join us for live music with Dustin Wilson!
URL:https://amorartisbrewing.com/event/live-music-at-the-print-shop-3/
LOCATION:The Print Shop\, 113 Railroad Avenue\, Fort Mill\, SC\, 29715\, United States
CATEGORIES:The Print Shop
ATTACH;FMTTYPE=image/jpeg:https://amorartisbrewing.com/wp-content/uploads/2026/03/Dustin-Wilson.jpg
END:VEVENT
BEGIN:VEVENT
DTSTART;TZID=UTC:20260418T180000
DTEND;TZID=UTC:20260418T210000
DTSTAMP:20260419T210424
CREATED:20260413T144821Z
LAST-MODIFIED:20260413T144821Z
UID:2122-1776535200-1776546000@amorartisbrewing.com
SUMMARY:Live Music At The Print Shop!
DESCRIPTION:Join us for live music with Raymond Franklin!
URL:https://amorartisbrewing.com/event/live-music-at-the-print-shop-4/
LOCATION:The Print Shop\, 113 Railroad Avenue\, Fort Mill\, SC\, 29715\, United States
CATEGORIES:The Print Shop
ATTACH;FMTTYPE=image/jpeg:https://amorartisbrewing.com/wp-content/uploads/2026/04/Raymond-Franklin.jpg
END:VEVENT
BEGIN:VEVENT
DTSTART;TZID=UTC:20260419T103000
DTEND;TZID=UTC:20260419T113000
DTSTAMP:20260419T210424
CREATED:20260323T170030Z
LAST-MODIFIED:20260323T170234Z
UID:2093-1776594600-1776598200@amorartisbrewing.com
SUMMARY:Yoga Untapped - April 19th
DESCRIPTION:Join us for taproom yoga led by OM Yoga! Cost includes class and a beer or house wine after class. Please bring your own mat! Current tickets are $10 + tax for the 4/19 class at 10:30am located at Amor Artis Brewing. \n**CLASS SIZE IS LIMITED. PLEASE PURCHASE YOUR SPOT IN ADVANCE** \nIf you have any questions please email khara@amorartisbrewing.com
URL:https://amorartisbrewing.com/event/yoga-untapped-april-19th/
LOCATION:Amor Artis Brewing\, 204 Main Street\, Fort Mill\, SC\, 29715\, United States
CATEGORIES:Amor Artis
ATTACH;FMTTYPE=image/jpeg:https://amorartisbrewing.com/wp-content/uploads/2025/02/Yoga.jpeg
END:VEVENT
BEGIN:VEVENT
DTSTART;TZID=UTC:20260420T180000
DTEND;TZID=UTC:20260420T200000
DTSTAMP:20260419T210424
CREATED:20260413T154951Z
LAST-MODIFIED:20260413T154951Z
UID:2160-1776708000-1776715200@amorartisbrewing.com
SUMMARY:Joggers For Lagers
DESCRIPTION:Every Monday at 6pm! \nGet ready to sweat\, sip and socialize!  Join us every Monday for our Joggers for Lagers Run Club at 6pm. Run your pace and enjoy post-run beer specials! See you there! \n 
URL:https://amorartisbrewing.com/event/joggers-for-lagers-3/
LOCATION:Amor Artis Brewing\, 204 Main Street\, Fort Mill\, SC\, 29715\, United States
CATEGORIES:Amor Artis
ATTACH;FMTTYPE=image/jpeg:https://amorartisbrewing.com/wp-content/uploads/2025/02/w926.jpeg
END:VEVENT
BEGIN:VEVENT
DTSTART;VALUE=DATE:20260422
DTEND;VALUE=DATE:20260423
DTSTAMP:20260419T210424
CREATED:20260413T151252Z
LAST-MODIFIED:20260413T151252Z
UID:2134-1776816000-1776902399@amorartisbrewing.com
SUMMARY:Wine Not Wednesday!
DESCRIPTION:Join EVERY Wednesday for Wine Not Wednesday featuring:\n\n Discounted wines by the glass!\n  NO corkage fee on bottles!\n\n\n\nGrab your friends and sip your favorite wine with us. Because really… wine not?!
URL:https://amorartisbrewing.com/event/wine-not-wednesday-3/
LOCATION:Amor Artis Brewing\, 204 Main Street\, Fort Mill\, SC\, 29715\, United States
CATEGORIES:Amor Artis
ATTACH;FMTTYPE=image/jpeg:https://amorartisbrewing.com/wp-content/uploads/2026/04/616123835_18417999343191399_5920629080387412841_n.jpg
END:VEVENT
BEGIN:VEVENT
DTSTART;TZID=UTC:20260422T183000
DTEND;TZID=UTC:20260422T200000
DTSTAMP:20260419T210424
CREATED:20260323T173434Z
LAST-MODIFIED:20260323T173434Z
UID:2104-1776882600-1776888000@amorartisbrewing.com
SUMMARY:CycleHops Bike Club
DESCRIPTION:We cruise for an 8 to 10 mile loop every Wednesday night! Anyone and everyone is welcome. This ride has hills but can be dominated with a single speed cruiser. We ride at a social pace. Meet in the parking lot behind Amor Artis Brewing at 6:15pm\, pedaling out at 6:30p. Helmets are required.\n\nUltimately\, these rides are about more than riding bikes. We’re all about getting fit\, making friends\, and enjoying some pints!\n– $5 pints for all riders!– Earn swag with our punch cards!\n\nFollow us on the Amor Artis Weekly Rides Facebook page for weekly updates and photos!
URL:https://amorartisbrewing.com/event/cyclehops-bike-club-5/
LOCATION:Amor Artis Brewing\, 204 Main Street\, Fort Mill\, SC\, 29715\, United States
ATTACH;FMTTYPE=image/jpeg:https://amorartisbrewing.com/wp-content/uploads/2025/02/Cyclhops.jpeg
END:VEVENT
BEGIN:VEVENT
DTSTART;TZID=UTC:20260423T180000
DTEND;TZID=UTC:20260423T200000
DTSTAMP:20260419T210424
CREATED:20260413T160726Z
LAST-MODIFIED:20260413T160726Z
UID:2174-1776967200-1776974400@amorartisbrewing.com
SUMMARY:Bluegrass Jam at The Print Shop
DESCRIPTION:Join The Charlotte Folk Society at The Print Shop (EVERY 2nd and 4th THURSDAY of the month) for a BLUEGRASS JAM! These will kick off at 6:00pm and will end at 8:00pm. NO TICKETS NEEDED. Just bring your instrument and play with The Charlotte Folk Society!
URL:https://amorartisbrewing.com/event/bluegrass-jam-at-the-print-shop/
LOCATION:The Print Shop\, 113 Railroad Avenue\, Fort Mill\, SC\, 29715\, United States
CATEGORIES:The Print Shop
ATTACH;FMTTYPE=image/jpeg:https://amorartisbrewing.com/wp-content/uploads/2026/04/641415474_1317173277104822_3672844967267156565_n-2.jpg
END:VEVENT
BEGIN:VEVENT
DTSTART;TZID=UTC:20260423T183000
DTEND;TZID=UTC:20260423T210000
DTSTAMP:20260419T210424
CREATED:20260413T155539Z
LAST-MODIFIED:20260413T155539Z
UID:2167-1776969000-1776978000@amorartisbrewing.com
SUMMARY:Open Mic Night!
DESCRIPTION:Come on out to Amor Artis Brewing every other Thursday night (or fortnightly… we promise\, it’s a word) to Open Mic Night!\n\nShow off your talent solo or with a friend\, or jump in with the Jam Band later in the evening. All ages are welcome\, and we have instruments available to borrow if needed. The sound system and all cables are provided\, so it’s just Plug and Play! Cheers \n\n*Please no extra amps\, we have limited space\, and sensitive acoustics*
URL:https://amorartisbrewing.com/event/open-mic-night-6/
LOCATION:Amor Artis Brewing\, 204 Main Street\, Fort Mill\, SC\, 29715\, United States
CATEGORIES:Amor Artis
ATTACH;FMTTYPE=image/png:https://amorartisbrewing.com/wp-content/uploads/2026/01/Open-Mic-Night-Flyer-2026_20260101_115121_0000.png
END:VEVENT
END:VCALENDAR