BEGIN:VCALENDAR
VERSION:2.0
PRODID:-//Amor Artis New Hosting - ECPv6.15.16.1//NONSGML v1.0//EN
CALSCALE:GREGORIAN
METHOD:PUBLISH
X-WR-CALNAME:Amor Artis New Hosting
X-ORIGINAL-URL:https://amorartisbrewing.com
X-WR-CALDESC:Events for Amor Artis New Hosting
REFRESH-INTERVAL;VALUE=DURATION:PT1H
X-Robots-Tag:noindex
X-PUBLISHED-TTL:PT1H
BEGIN:VTIMEZONE
TZID:UTC
BEGIN:STANDARD
TZOFFSETFROM:+0000
TZOFFSETTO:+0000
TZNAME:UTC
DTSTART:20250101T000000
END:STANDARD
END:VTIMEZONE
BEGIN:VEVENT
DTSTART;VALUE=DATE:20260422
DTEND;VALUE=DATE:20260423
DTSTAMP:20260422T103307
CREATED:20260413T151252Z
LAST-MODIFIED:20260413T151252Z
UID:2134-1776816000-1776902399@amorartisbrewing.com
SUMMARY:Wine Not Wednesday!
DESCRIPTION:Join EVERY Wednesday for Wine Not Wednesday featuring:\n\n Discounted wines by the glass!\n  NO corkage fee on bottles!\n\n\n\nGrab your friends and sip your favorite wine with us. Because really… wine not?!
URL:https://amorartisbrewing.com/event/wine-not-wednesday-3/
LOCATION:Amor Artis Brewing\, 204 Main Street\, Fort Mill\, SC\, 29715\, United States
CATEGORIES:Amor Artis
ATTACH;FMTTYPE=image/jpeg:https://amorartisbrewing.com/wp-content/uploads/2026/04/616123835_18417999343191399_5920629080387412841_n.jpg
END:VEVENT
BEGIN:VEVENT
DTSTART;TZID=UTC:20260422T183000
DTEND;TZID=UTC:20260422T200000
DTSTAMP:20260422T103307
CREATED:20260323T173434Z
LAST-MODIFIED:20260323T173434Z
UID:2104-1776882600-1776888000@amorartisbrewing.com
SUMMARY:CycleHops Bike Club
DESCRIPTION:We cruise for an 8 to 10 mile loop every Wednesday night! Anyone and everyone is welcome. This ride has hills but can be dominated with a single speed cruiser. We ride at a social pace. Meet in the parking lot behind Amor Artis Brewing at 6:15pm\, pedaling out at 6:30p. Helmets are required.\n\nUltimately\, these rides are about more than riding bikes. We’re all about getting fit\, making friends\, and enjoying some pints!\n– $5 pints for all riders!– Earn swag with our punch cards!\n\nFollow us on the Amor Artis Weekly Rides Facebook page for weekly updates and photos!
URL:https://amorartisbrewing.com/event/cyclehops-bike-club-5/
LOCATION:Amor Artis Brewing\, 204 Main Street\, Fort Mill\, SC\, 29715\, United States
ATTACH;FMTTYPE=image/jpeg:https://amorartisbrewing.com/wp-content/uploads/2025/02/Cyclhops.jpeg
END:VEVENT
END:VCALENDAR